BEGIN:VCALENDAR
VERSION:2.0
PRODID:-//Valley of Calgary - ECPv6.15.20//NONSGML v1.0//EN
CALSCALE:GREGORIAN
METHOD:PUBLISH
X-ORIGINAL-URL:https://valleyofcalgary.ca
X-WR-CALDESC:Events for Valley of Calgary
REFRESH-INTERVAL;VALUE=DURATION:PT1H
X-Robots-Tag:noindex
X-PUBLISHED-TTL:PT1H
BEGIN:VTIMEZONE
TZID:UTC
BEGIN:STANDARD
TZOFFSETFROM:+0000
TZOFFSETTO:+0000
TZNAME:UTC
DTSTART:20200101T000000
END:STANDARD
END:VTIMEZONE
BEGIN:VEVENT
DTSTART;TZID=UTC:20210216T193000
DTEND;TZID=UTC:20210216T223000
DTSTAMP:20260423T130330
CREATED:20210202T232240Z
LAST-MODIFIED:20210204T121648Z
UID:489-1613503800-1613514600@valleyofcalgary.ca
SUMMARY:Central Alberta Lodge of Perfection 14°
DESCRIPTION:Regular Business Meeting
URL:https://valleyofcalgary.ca/calendar/central-alberta-lodge-of-perfection-14/
LOCATION:Zoom Meeting
CATEGORIES:Regular Business Meeting - Members Only
END:VEVENT
END:VCALENDAR