BEGIN:VCALENDAR
VERSION:2.0
PRODID:-//Valley of Calgary - ECPv6.15.20//NONSGML v1.0//EN
CALSCALE:GREGORIAN
METHOD:PUBLISH
X-ORIGINAL-URL:https://valleyofcalgary.ca
X-WR-CALDESC:Events for Valley of Calgary
REFRESH-INTERVAL;VALUE=DURATION:PT1H
X-Robots-Tag:noindex
X-PUBLISHED-TTL:PT1H
BEGIN:VTIMEZONE
TZID:America/Denver
BEGIN:DAYLIGHT
TZOFFSETFROM:-0700
TZOFFSETTO:-0600
TZNAME:MDT
DTSTART:20200308T090000
END:DAYLIGHT
BEGIN:STANDARD
TZOFFSETFROM:-0600
TZOFFSETTO:-0700
TZNAME:MST
DTSTART:20201101T080000
END:STANDARD
BEGIN:DAYLIGHT
TZOFFSETFROM:-0700
TZOFFSETTO:-0600
TZNAME:MDT
DTSTART:20210314T090000
END:DAYLIGHT
BEGIN:STANDARD
TZOFFSETFROM:-0600
TZOFFSETTO:-0700
TZNAME:MST
DTSTART:20211107T080000
END:STANDARD
BEGIN:DAYLIGHT
TZOFFSETFROM:-0700
TZOFFSETTO:-0600
TZNAME:MDT
DTSTART:20220313T090000
END:DAYLIGHT
BEGIN:STANDARD
TZOFFSETFROM:-0600
TZOFFSETTO:-0700
TZNAME:MST
DTSTART:20221106T080000
END:STANDARD
END:VTIMEZONE
BEGIN:VEVENT
DTSTART;TZID=America/Denver:20211019T193000
DTEND;TZID=America/Denver:20211019T213000
DTSTAMP:20260421T014758
CREATED:20211007T223837Z
LAST-MODIFIED:20211007T223838Z
UID:840-1634671800-1634679000@valleyofcalgary.ca
SUMMARY:Central Alberta Valley Lodge of Perfection\, Red Deer\, Alberta - Virtual Gathering and Festive Board
DESCRIPTION:Report from all members of any known sickness or distress within the Valley– History Book – Ill. Bros. Clark Johnston–  Festive Board* Please have any jokes or stories ready for festive board immediately after the meeting \n\n\n\n \n\n\n\nIf you haven’t received and link and joining instructions for this meeting\, please send an email to the Secretary of the Valley of Calgary (valleyofcalgaryaasr@shaw.ca)
URL:https://valleyofcalgary.ca/calendar/central-alberta-valley-lodge-of-perfection-red-deer-alberta-virtual-gathering-and-festive-board/
LOCATION:Zoom Meeting
END:VEVENT
END:VCALENDAR