BEGIN:VCALENDAR
VERSION:2.0
PRODID:-//Valley of Calgary - ECPv6.15.20//NONSGML v1.0//EN
CALSCALE:GREGORIAN
METHOD:PUBLISH
X-WR-CALNAME:Valley of Calgary
X-ORIGINAL-URL:https://valleyofcalgary.ca
X-WR-CALDESC:Events for Valley of Calgary
REFRESH-INTERVAL;VALUE=DURATION:PT1H
X-Robots-Tag:noindex
X-PUBLISHED-TTL:PT1H
BEGIN:VTIMEZONE
TZID:America/Denver
BEGIN:DAYLIGHT
TZOFFSETFROM:-0700
TZOFFSETTO:-0600
TZNAME:MDT
DTSTART:20200308T090000
END:DAYLIGHT
BEGIN:STANDARD
TZOFFSETFROM:-0600
TZOFFSETTO:-0700
TZNAME:MST
DTSTART:20201101T080000
END:STANDARD
BEGIN:DAYLIGHT
TZOFFSETFROM:-0700
TZOFFSETTO:-0600
TZNAME:MDT
DTSTART:20210314T090000
END:DAYLIGHT
BEGIN:STANDARD
TZOFFSETFROM:-0600
TZOFFSETTO:-0700
TZNAME:MST
DTSTART:20211107T080000
END:STANDARD
BEGIN:DAYLIGHT
TZOFFSETFROM:-0700
TZOFFSETTO:-0600
TZNAME:MDT
DTSTART:20220313T090000
END:DAYLIGHT
BEGIN:STANDARD
TZOFFSETFROM:-0600
TZOFFSETTO:-0700
TZNAME:MST
DTSTART:20221106T080000
END:STANDARD
END:VTIMEZONE
BEGIN:VEVENT
DTSTART;TZID=America/Denver:20211123T190000
DTEND;TZID=America/Denver:20211123T210000
DTSTAMP:20260421T001157
CREATED:20211110T040648Z
LAST-MODIFIED:20211110T040648Z
UID:854-1637694000-1637701200@valleyofcalgary.ca
SUMMARY:Lethbridge Valley - Zoom Meeting
DESCRIPTION:We encourage all members of the Valley of Calgary to join the Lethbridge Valley meeting for some great fellowship and education. \n\n\n\nIf you haven’t received a link or instructions to join this meeting please send an email to the Secretary of the Valley of Calgary (valleyofcalgaryaasr@shaw.ca)
URL:https://valleyofcalgary.ca/calendar/lethbridge-valley-zoom-meeting-3/
LOCATION:Alberta
END:VEVENT
END:VCALENDAR