BEGIN:VCALENDAR
VERSION:2.0
PRODID:-//Valley of Calgary - ECPv6.15.20//NONSGML v1.0//EN
CALSCALE:GREGORIAN
METHOD:PUBLISH
X-WR-CALNAME:Valley of Calgary
X-ORIGINAL-URL:https://valleyofcalgary.ca
X-WR-CALDESC:Events for Valley of Calgary
REFRESH-INTERVAL;VALUE=DURATION:PT1H
X-Robots-Tag:noindex
X-PUBLISHED-TTL:PT1H
BEGIN:VTIMEZONE
TZID:America/Denver
BEGIN:DAYLIGHT
TZOFFSETFROM:-0700
TZOFFSETTO:-0600
TZNAME:MDT
DTSTART:20210314T090000
END:DAYLIGHT
BEGIN:STANDARD
TZOFFSETFROM:-0600
TZOFFSETTO:-0700
TZNAME:MST
DTSTART:20211107T080000
END:STANDARD
BEGIN:DAYLIGHT
TZOFFSETFROM:-0700
TZOFFSETTO:-0600
TZNAME:MDT
DTSTART:20220313T090000
END:DAYLIGHT
BEGIN:STANDARD
TZOFFSETFROM:-0600
TZOFFSETTO:-0700
TZNAME:MST
DTSTART:20221106T080000
END:STANDARD
BEGIN:DAYLIGHT
TZOFFSETFROM:-0700
TZOFFSETTO:-0600
TZNAME:MDT
DTSTART:20230312T090000
END:DAYLIGHT
BEGIN:STANDARD
TZOFFSETFROM:-0600
TZOFFSETTO:-0700
TZNAME:MST
DTSTART:20231105T080000
END:STANDARD
END:VTIMEZONE
BEGIN:VEVENT
DTSTART;TZID=America/Denver:20220118T193000
DTEND;TZID=America/Denver:20220118T213000
DTSTAMP:20260420T170410
CREATED:20220117T204847Z
LAST-MODIFIED:20220117T204848Z
UID:897-1642534200-1642541400@valleyofcalgary.ca
SUMMARY:Central Alberta Valley - Lodge of Perfection
DESCRIPTION:You are invited to attend Central Alberta Valley’s Virtual Gathering and Festive Boardusing ZOOM. Join before 7:30 p.m. MST for some social time\, and be ready to go whenthe meeting starts at 7:30 p.m. Please have any jokes or stories ready for festive boardimmediately after the meeting. \n\n\n\n \n\n\n\nIf you haven’t received instructions to join this meeting\, please contact the Grand Secretary\, Valley of Calgary at valleyofcalgaryaasr@shaw.ca
URL:https://valleyofcalgary.ca/calendar/central-alberta-valley-lodge-of-perfection/
LOCATION:Alberta
END:VEVENT
END:VCALENDAR