BEGIN:VCALENDAR
VERSION:2.0
PRODID:-//Valley of Calgary - ECPv6.15.20//NONSGML v1.0//EN
CALSCALE:GREGORIAN
METHOD:PUBLISH
X-ORIGINAL-URL:https://valleyofcalgary.ca
X-WR-CALDESC:Events for Valley of Calgary
REFRESH-INTERVAL;VALUE=DURATION:PT1H
X-Robots-Tag:noindex
X-PUBLISHED-TTL:PT1H
BEGIN:VTIMEZONE
TZID:America/Denver
BEGIN:DAYLIGHT
TZOFFSETFROM:-0700
TZOFFSETTO:-0600
TZNAME:MDT
DTSTART:20210314T090000
END:DAYLIGHT
BEGIN:STANDARD
TZOFFSETFROM:-0600
TZOFFSETTO:-0700
TZNAME:MST
DTSTART:20211107T080000
END:STANDARD
BEGIN:DAYLIGHT
TZOFFSETFROM:-0700
TZOFFSETTO:-0600
TZNAME:MDT
DTSTART:20220313T090000
END:DAYLIGHT
BEGIN:STANDARD
TZOFFSETFROM:-0600
TZOFFSETTO:-0700
TZNAME:MST
DTSTART:20221106T080000
END:STANDARD
BEGIN:DAYLIGHT
TZOFFSETFROM:-0700
TZOFFSETTO:-0600
TZNAME:MDT
DTSTART:20230312T090000
END:DAYLIGHT
BEGIN:STANDARD
TZOFFSETFROM:-0600
TZOFFSETTO:-0700
TZNAME:MST
DTSTART:20231105T080000
END:STANDARD
END:VTIMEZONE
BEGIN:VEVENT
DTSTART;TZID=America/Denver:20220224T170000
DTEND;TZID=America/Denver:20220224T190000
DTSTAMP:20260420T152948
CREATED:20220216T181211Z
LAST-MODIFIED:20220216T181319Z
UID:962-1645722000-1645729200@valleyofcalgary.ca
SUMMARY:Montreal Valley – Vallée de Montreal: L'Histoire de la Franc-Maconnerie au Canada\, Tome 1
DESCRIPTION:Presentation in French by Ill. Bro. Jacques Ruelland\, 33° \n\n\n\nAdvance registration is required. \n\n\n\nIf you haven’t received instructions to register for this event please send a message to the Grand Secretary\, Valley of Calgary to valleyofcalgaryaasr@shaw.ca.
URL:https://valleyofcalgary.ca/calendar/montreal-valley-vallee-de-montreal-lhistoire-de-la-franc-maconnerie-au-canada-tome-1/
LOCATION:Alberta
END:VEVENT
BEGIN:VEVENT
DTSTART;TZID=America/Denver:20220224T173000
DTEND;TZID=America/Denver:20220224T193000
DTSTAMP:20260420T152948
CREATED:20220216T180721Z
LAST-MODIFIED:20220216T180722Z
UID:960-1645723800-1645731000@valleyofcalgary.ca
SUMMARY:Toronto Valley - Night at the Rite
DESCRIPTION:On Thursday February 24th\, 2022\, Toronto Valley will be presentingthe Northern Masonic Jurisdiction’s video of the 17th Degree entitled Knight of the Eastand West. This event is open to all Scottish Rite members (no signs or secrets arepresented). This degree is different than the Canadian degree and is a great opportunityto see how the NMJ presents it. \n\n\n\nIf you haven’t received instructions to join this session please send a message to the Grand Secretary\, Valley of Calgary to valleyofcalgaryaasr@shaw.ca
URL:https://valleyofcalgary.ca/calendar/toronto-valley-night-at-the-rite/
LOCATION:Alberta
END:VEVENT
END:VCALENDAR