BEGIN:VCALENDAR
VERSION:2.0
PRODID:-//Valley of Calgary - ECPv6.15.20//NONSGML v1.0//EN
CALSCALE:GREGORIAN
METHOD:PUBLISH
X-WR-CALNAME:Valley of Calgary
X-ORIGINAL-URL:https://valleyofcalgary.ca
X-WR-CALDESC:Events for Valley of Calgary
REFRESH-INTERVAL;VALUE=DURATION:PT1H
X-Robots-Tag:noindex
X-PUBLISHED-TTL:PT1H
BEGIN:VTIMEZONE
TZID:America/Denver
BEGIN:DAYLIGHT
TZOFFSETFROM:-0700
TZOFFSETTO:-0600
TZNAME:MDT
DTSTART:20210314T090000
END:DAYLIGHT
BEGIN:STANDARD
TZOFFSETFROM:-0600
TZOFFSETTO:-0700
TZNAME:MST
DTSTART:20211107T080000
END:STANDARD
BEGIN:DAYLIGHT
TZOFFSETFROM:-0700
TZOFFSETTO:-0600
TZNAME:MDT
DTSTART:20220313T090000
END:DAYLIGHT
BEGIN:STANDARD
TZOFFSETFROM:-0600
TZOFFSETTO:-0700
TZNAME:MST
DTSTART:20221106T080000
END:STANDARD
BEGIN:DAYLIGHT
TZOFFSETFROM:-0700
TZOFFSETTO:-0600
TZNAME:MDT
DTSTART:20230312T090000
END:DAYLIGHT
BEGIN:STANDARD
TZOFFSETFROM:-0600
TZOFFSETTO:-0700
TZNAME:MST
DTSTART:20231105T080000
END:STANDARD
END:VTIMEZONE
BEGIN:VEVENT
DTSTART;TZID=America/Denver:20220309T170000
DTEND;TZID=America/Denver:20220309T190000
DTSTAMP:20260420T135312
CREATED:20220309T052458Z
LAST-MODIFIED:20220309T052459Z
UID:976-1646845200-1646852400@valleyofcalgary.ca
SUMMARY:Barrie Valley - Canada’s Place In A Post Covid World
DESCRIPTION:A non-political presentation that is bound to interest you:“Canada’s Place In A Post Covid World” – Ill. Bro. The Hon. Peter G. MacKay\, 32°.The speaker is a well known Canadian now residing in New Glasgow in his home provinceof NS and practicing law in Halifax NS. \n\n\n\nIf you haven’t received instructions to join this session please send an email to the Grand Secretary\, Valley of Calgary to valleyofcalgaryaasr@shaw.ca
URL:https://valleyofcalgary.ca/calendar/barrie-valley-canadas-place-in-a-post-covid-world/
LOCATION:Alberta
END:VEVENT
END:VCALENDAR