BEGIN:VCALENDAR
VERSION:2.0
PRODID:-//Valley of Calgary - ECPv6.15.20//NONSGML v1.0//EN
CALSCALE:GREGORIAN
METHOD:PUBLISH
X-ORIGINAL-URL:https://valleyofcalgary.ca
X-WR-CALDESC:Events for Valley of Calgary
REFRESH-INTERVAL;VALUE=DURATION:PT1H
X-Robots-Tag:noindex
X-PUBLISHED-TTL:PT1H
BEGIN:VTIMEZONE
TZID:America/Denver
BEGIN:DAYLIGHT
TZOFFSETFROM:-0700
TZOFFSETTO:-0600
TZNAME:MDT
DTSTART:20210314T090000
END:DAYLIGHT
BEGIN:STANDARD
TZOFFSETFROM:-0600
TZOFFSETTO:-0700
TZNAME:MST
DTSTART:20211107T080000
END:STANDARD
BEGIN:DAYLIGHT
TZOFFSETFROM:-0700
TZOFFSETTO:-0600
TZNAME:MDT
DTSTART:20220313T090000
END:DAYLIGHT
BEGIN:STANDARD
TZOFFSETFROM:-0600
TZOFFSETTO:-0700
TZNAME:MST
DTSTART:20221106T080000
END:STANDARD
BEGIN:DAYLIGHT
TZOFFSETFROM:-0700
TZOFFSETTO:-0600
TZNAME:MDT
DTSTART:20230312T090000
END:DAYLIGHT
BEGIN:STANDARD
TZOFFSETFROM:-0600
TZOFFSETTO:-0700
TZNAME:MST
DTSTART:20231105T080000
END:STANDARD
END:VTIMEZONE
BEGIN:VEVENT
DTSTART;TZID=America/Denver:20220316T173000
DTEND;TZID=America/Denver:20220316T193000
DTSTAMP:20260420T135330
CREATED:20220309T053024Z
LAST-MODIFIED:20220309T053024Z
UID:980-1647451800-1647459000@valleyofcalgary.ca
SUMMARY:Hamilton Valley - Scottish Rite Freemasonry - The Tools at Our Disposal
DESCRIPTION:Presented by Ill. Bro. David A. Bennett 33\, Lieutenant Grand Commander\, Supreme Council\,AASRF of Canada. \n\n\n\n“Utilizing the tools at our disposal; as we continue our masonic journey may we constantly apply the lessons learned to benefit our lives\, our fraternity\, our society” \n\n\n\nIf you haven’t received instructions to join this session please send an email to the Grand Secretary\, Valley of Calgary to valleyofcalgaryaasr@shaw.ca
URL:https://valleyofcalgary.ca/calendar/hamilton-valley-scottish-rite-freemasonry-the-tools-at-our-disposal/
LOCATION:Alberta
END:VEVENT
END:VCALENDAR