BEGIN:VCALENDAR
VERSION:2.0
PRODID:-//Valley of Calgary - ECPv6.15.20//NONSGML v1.0//EN
CALSCALE:GREGORIAN
METHOD:PUBLISH
X-ORIGINAL-URL:https://valleyofcalgary.ca
X-WR-CALDESC:Events for Valley of Calgary
REFRESH-INTERVAL;VALUE=DURATION:PT1H
X-Robots-Tag:noindex
X-PUBLISHED-TTL:PT1H
BEGIN:VTIMEZONE
TZID:America/Denver
BEGIN:DAYLIGHT
TZOFFSETFROM:-0700
TZOFFSETTO:-0600
TZNAME:MDT
DTSTART:20210314T090000
END:DAYLIGHT
BEGIN:STANDARD
TZOFFSETFROM:-0600
TZOFFSETTO:-0700
TZNAME:MST
DTSTART:20211107T080000
END:STANDARD
BEGIN:DAYLIGHT
TZOFFSETFROM:-0700
TZOFFSETTO:-0600
TZNAME:MDT
DTSTART:20220313T090000
END:DAYLIGHT
BEGIN:STANDARD
TZOFFSETFROM:-0600
TZOFFSETTO:-0700
TZNAME:MST
DTSTART:20221106T080000
END:STANDARD
BEGIN:DAYLIGHT
TZOFFSETFROM:-0700
TZOFFSETTO:-0600
TZNAME:MDT
DTSTART:20230312T090000
END:DAYLIGHT
BEGIN:STANDARD
TZOFFSETFROM:-0600
TZOFFSETTO:-0700
TZNAME:MST
DTSTART:20231105T080000
END:STANDARD
END:VTIMEZONE
BEGIN:VEVENT
DTSTART;TZID=America/Denver:20220324T173000
DTEND;TZID=America/Denver:20220324T193000
DTSTAMP:20260420T135331
CREATED:20220309T053348Z
LAST-MODIFIED:20220309T053349Z
UID:982-1648143000-1648150200@valleyofcalgary.ca
SUMMARY:Toronto Valley - Night at the Rite
DESCRIPTION:Presented by Ill. Bro. Chuck Dunning\, 32\, of the Valley Guthrie\, Oklahoma & Fort Worth\, Texas. Ill. Bro. Dunning will be speaking on “Shekinah\, the Blazing Star\, and the Intendants of the Building: Reflections on the 8th Degree of the AASR-SJ.” Ill. Bro. Dunning is an author\, trainer\, and consultant with more than 30 years in the professional fields of higher education and mental health\, as well as in Masonry\,  osicrucianism\, and other currents in the Western esoteric traditions. \n\n\n\nIf you haven’t received instruction to join this session please send an email to the Grand Secretary\, Valley of Calgary to valleyofcalgaryaasr@shaw.ca
URL:https://valleyofcalgary.ca/calendar/toronto-valley-night-at-the-rite-2/
LOCATION:Alberta
END:VEVENT
END:VCALENDAR