BEGIN:VCALENDAR
VERSION:2.0
PRODID:-//Valley of Calgary - ECPv6.15.20//NONSGML v1.0//EN
CALSCALE:GREGORIAN
METHOD:PUBLISH
X-ORIGINAL-URL:https://valleyofcalgary.ca
X-WR-CALDESC:Events for Valley of Calgary
REFRESH-INTERVAL;VALUE=DURATION:PT1H
X-Robots-Tag:noindex
X-PUBLISHED-TTL:PT1H
BEGIN:VTIMEZONE
TZID:America/Edmonton
BEGIN:DAYLIGHT
TZOFFSETFROM:-0700
TZOFFSETTO:-0600
TZNAME:MDT
DTSTART:20220313T090000
END:DAYLIGHT
BEGIN:STANDARD
TZOFFSETFROM:-0600
TZOFFSETTO:-0700
TZNAME:MST
DTSTART:20221106T080000
END:STANDARD
BEGIN:DAYLIGHT
TZOFFSETFROM:-0700
TZOFFSETTO:-0600
TZNAME:MDT
DTSTART:20230312T090000
END:DAYLIGHT
BEGIN:STANDARD
TZOFFSETFROM:-0600
TZOFFSETTO:-0700
TZNAME:MST
DTSTART:20231105T080000
END:STANDARD
BEGIN:DAYLIGHT
TZOFFSETFROM:-0700
TZOFFSETTO:-0600
TZNAME:MDT
DTSTART:20240310T090000
END:DAYLIGHT
BEGIN:STANDARD
TZOFFSETFROM:-0600
TZOFFSETTO:-0700
TZNAME:MST
DTSTART:20241103T080000
END:STANDARD
END:VTIMEZONE
BEGIN:VEVENT
DTSTART;TZID=America/Edmonton:20230203T190000
DTEND;TZID=America/Edmonton:20230203T220000
DTSTAMP:20260419T214242
CREATED:20230109T184222Z
LAST-MODIFIED:20230109T184223Z
UID:1056-1675450800-1675461600@valleyofcalgary.ca
SUMMARY:Valley of Calgary - Conferral of the 13th Degree
DESCRIPTION:Registration of L.O.P. Candidates at 7:00 pm \n\n\n\nCocktails – Mix & Mingle to follow the meeting
URL:https://valleyofcalgary.ca/calendar/valley-of-calgary-conferral-of-the-13th-degree/
LOCATION:Alberta
END:VEVENT
END:VCALENDAR