BEGIN:VCALENDAR
VERSION:2.0
PRODID:-//Valley of Calgary - ECPv6.15.20//NONSGML v1.0//EN
CALSCALE:GREGORIAN
METHOD:PUBLISH
X-WR-CALNAME:Valley of Calgary
X-ORIGINAL-URL:https://valleyofcalgary.ca
X-WR-CALDESC:Events for Valley of Calgary
REFRESH-INTERVAL;VALUE=DURATION:PT1H
X-Robots-Tag:noindex
X-PUBLISHED-TTL:PT1H
BEGIN:VTIMEZONE
TZID:America/Edmonton
BEGIN:DAYLIGHT
TZOFFSETFROM:-0700
TZOFFSETTO:-0600
TZNAME:MDT
DTSTART:20220313T090000
END:DAYLIGHT
BEGIN:STANDARD
TZOFFSETFROM:-0600
TZOFFSETTO:-0700
TZNAME:MST
DTSTART:20221106T080000
END:STANDARD
BEGIN:DAYLIGHT
TZOFFSETFROM:-0700
TZOFFSETTO:-0600
TZNAME:MDT
DTSTART:20230312T090000
END:DAYLIGHT
BEGIN:STANDARD
TZOFFSETFROM:-0600
TZOFFSETTO:-0700
TZNAME:MST
DTSTART:20231105T080000
END:STANDARD
BEGIN:DAYLIGHT
TZOFFSETFROM:-0700
TZOFFSETTO:-0600
TZNAME:MDT
DTSTART:20240310T090000
END:DAYLIGHT
BEGIN:STANDARD
TZOFFSETFROM:-0600
TZOFFSETTO:-0700
TZNAME:MST
DTSTART:20241103T080000
END:STANDARD
END:VTIMEZONE
BEGIN:VEVENT
DTSTART;TZID=America/Edmonton:20230204T100000
DTEND;TZID=America/Edmonton:20230204T110000
DTSTAMP:20260419T215204
CREATED:20230109T184513Z
LAST-MODIFIED:20230109T184514Z
UID:1058-1675504800-1675508400@valleyofcalgary.ca
SUMMARY:Amalgamation CeremonyChinook Chapter of Rose Croix& Delta Chapter of Rose Croix
DESCRIPTION:Subject to approval from Supreme Council
URL:https://valleyofcalgary.ca/calendar/amalgamation-ceremonychinook-chapter-of-rose-croix-delta-chapter-of-rose-croix/
LOCATION:Alberta
END:VEVENT
BEGIN:VEVENT
DTSTART;TZID=America/Edmonton:20230204T113000
DTEND;TZID=America/Edmonton:20230204T200000
DTSTAMP:20260419T215204
CREATED:20230109T185239Z
LAST-MODIFIED:20230109T185240Z
UID:1060-1675510200-1675540800@valleyofcalgary.ca
SUMMARY:Valley of Calgary - 14th Degree
DESCRIPTION:Lunch                                            11:30 amConferral of the 14th Degree        1:00 pmGrand Elect Perfect & Sublime Mason Banquet at the Danish Canadian Club // RSVP secretary@valleyofcalgary.caCocktails ~                                     5:30 pmDinner ~                                          6:30 pmEntertainment ~ Ill. Bro. Chuck Rose 32°
URL:https://valleyofcalgary.ca/calendar/valley-of-calgary-14th-degree/
LOCATION:Alberta
END:VEVENT
END:VCALENDAR