BEGIN:VCALENDAR
VERSION:2.0
PRODID:-//Valley of Calgary - ECPv6.15.20//NONSGML v1.0//EN
CALSCALE:GREGORIAN
METHOD:PUBLISH
X-WR-CALNAME:Valley of Calgary
X-ORIGINAL-URL:https://valleyofcalgary.ca
X-WR-CALDESC:Events for Valley of Calgary
REFRESH-INTERVAL;VALUE=DURATION:PT1H
X-Robots-Tag:noindex
X-PUBLISHED-TTL:PT1H
BEGIN:VTIMEZONE
TZID:America/Edmonton
BEGIN:DAYLIGHT
TZOFFSETFROM:-0700
TZOFFSETTO:-0600
TZNAME:MDT
DTSTART:20220313T090000
END:DAYLIGHT
BEGIN:STANDARD
TZOFFSETFROM:-0600
TZOFFSETTO:-0700
TZNAME:MST
DTSTART:20221106T080000
END:STANDARD
BEGIN:DAYLIGHT
TZOFFSETFROM:-0700
TZOFFSETTO:-0600
TZNAME:MDT
DTSTART:20230312T090000
END:DAYLIGHT
BEGIN:STANDARD
TZOFFSETFROM:-0600
TZOFFSETTO:-0700
TZNAME:MST
DTSTART:20231105T080000
END:STANDARD
BEGIN:DAYLIGHT
TZOFFSETFROM:-0700
TZOFFSETTO:-0600
TZNAME:MDT
DTSTART:20240310T090000
END:DAYLIGHT
BEGIN:STANDARD
TZOFFSETFROM:-0600
TZOFFSETTO:-0700
TZNAME:MST
DTSTART:20241103T080000
END:STANDARD
END:VTIMEZONE
BEGIN:VEVENT
DTSTART;TZID=America/Edmonton:20230206T183000
DTEND;TZID=America/Edmonton:20230206T213000
DTSTAMP:20260419T215211
CREATED:20230109T185707Z
LAST-MODIFIED:20230109T185708Z
UID:1064-1675708200-1675719000@valleyofcalgary.ca
SUMMARY:Valley of Calgary Business Meeting
DESCRIPTION:L.O.P. will chair the business meeting \n\n\n\nFestive Board                 6:30 pm // RSVP secretary@valleyofcalgary.caBusiness Meeting           7:30 pm
URL:https://valleyofcalgary.ca/calendar/valley-of-calgary-business-meeting/
LOCATION:Alberta
END:VEVENT
END:VCALENDAR