BEGIN:VCALENDAR
VERSION:2.0
PRODID:-//Valley of Calgary - ECPv6.15.20//NONSGML v1.0//EN
CALSCALE:GREGORIAN
METHOD:PUBLISH
X-WR-CALNAME:Valley of Calgary
X-ORIGINAL-URL:https://valleyofcalgary.ca
X-WR-CALDESC:Events for Valley of Calgary
REFRESH-INTERVAL;VALUE=DURATION:PT1H
X-Robots-Tag:noindex
X-PUBLISHED-TTL:PT1H
BEGIN:VTIMEZONE
TZID:UTC
BEGIN:STANDARD
TZOFFSETFROM:+0000
TZOFFSETTO:+0000
TZNAME:UTC
DTSTART:20200101T000000
END:STANDARD
END:VTIMEZONE
BEGIN:VEVENT
DTSTART;TZID=UTC:20210205T193000
DTEND;TZID=UTC:20210205T223000
DTSTAMP:20260420T110422
CREATED:20210202T232729Z
LAST-MODIFIED:20210204T121725Z
UID:495-1612553400-1612564200@valleyofcalgary.ca
SUMMARY:Valley of Edmonton Lodge of Perfection
DESCRIPTION:Regular Business Meeting
URL:https://valleyofcalgary.ca/calendar/valley-of-edmonton-lodge-of-perfection/
LOCATION:Zoom Meeting
CATEGORIES:Regular Business Meeting - Members Only
END:VEVENT
END:VCALENDAR