BEGIN:VCALENDAR
VERSION:2.0
PRODID:-//Valley of Calgary - ECPv6.15.20//NONSGML v1.0//EN
CALSCALE:GREGORIAN
METHOD:PUBLISH
X-WR-CALNAME:Valley of Calgary
X-ORIGINAL-URL:https://valleyofcalgary.ca
X-WR-CALDESC:Events for Valley of Calgary
REFRESH-INTERVAL;VALUE=DURATION:PT1H
X-Robots-Tag:noindex
X-PUBLISHED-TTL:PT1H
BEGIN:VTIMEZONE
TZID:America/Denver
BEGIN:DAYLIGHT
TZOFFSETFROM:-0700
TZOFFSETTO:-0600
TZNAME:MDT
DTSTART:20200308T090000
END:DAYLIGHT
BEGIN:STANDARD
TZOFFSETFROM:-0600
TZOFFSETTO:-0700
TZNAME:MST
DTSTART:20201101T080000
END:STANDARD
BEGIN:DAYLIGHT
TZOFFSETFROM:-0700
TZOFFSETTO:-0600
TZNAME:MDT
DTSTART:20210314T090000
END:DAYLIGHT
BEGIN:STANDARD
TZOFFSETFROM:-0600
TZOFFSETTO:-0700
TZNAME:MST
DTSTART:20211107T080000
END:STANDARD
BEGIN:DAYLIGHT
TZOFFSETFROM:-0700
TZOFFSETTO:-0600
TZNAME:MDT
DTSTART:20220313T090000
END:DAYLIGHT
BEGIN:STANDARD
TZOFFSETFROM:-0600
TZOFFSETTO:-0700
TZNAME:MST
DTSTART:20221106T080000
END:STANDARD
END:VTIMEZONE
BEGIN:VTIMEZONE
TZID:America/Denver
BEGIN:DAYLIGHT
TZOFFSETFROM:-0700
TZOFFSETTO:-0600
TZNAME:MDT
DTSTART:20200308T090000
END:DAYLIGHT
BEGIN:STANDARD
TZOFFSETFROM:-0600
TZOFFSETTO:-0700
TZNAME:MST
DTSTART:20201101T080000
END:STANDARD
BEGIN:DAYLIGHT
TZOFFSETFROM:-0700
TZOFFSETTO:-0600
TZNAME:MDT
DTSTART:20210314T090000
END:DAYLIGHT
BEGIN:STANDARD
TZOFFSETFROM:-0600
TZOFFSETTO:-0700
TZNAME:MST
DTSTART:20211107T080000
END:STANDARD
BEGIN:DAYLIGHT
TZOFFSETFROM:-0700
TZOFFSETTO:-0600
TZNAME:MDT
DTSTART:20220313T090000
END:DAYLIGHT
BEGIN:STANDARD
TZOFFSETFROM:-0600
TZOFFSETTO:-0700
TZNAME:MST
DTSTART:20221106T080000
END:STANDARD
END:VTIMEZONE
BEGIN:VEVENT
DTSTART;TZID=America/Denver:20211004T190000
DTEND;TZID=America/Denver:20211004T210000
DTSTAMP:20260421T001518
CREATED:20211005T004203Z
LAST-MODIFIED:20211005T011133Z
UID:439-1633374000-1633381200@valleyofcalgary.ca
SUMMARY:Valley of Calgary - Regular Meeting
DESCRIPTION:
URL:https://valleyofcalgary.ca/calendar/valley-of-calgary-regular-meeting-2/
LOCATION:Alberta
END:VEVENT
BEGIN:VEVENT
DTSTART;TZID=America/Denver:20211013T170000
DTEND;TZID=America/Denver:20211013T190000
DTSTAMP:20260421T001518
CREATED:20211007T223323Z
LAST-MODIFIED:20211012T211810Z
UID:838-1634144400-1634151600@valleyofcalgary.ca
SUMMARY:Barrie Valley - Sacred Geometry: A Framework for Understanding Our Surroundings
DESCRIPTION:The AASR Education and Enlightenment Committee’s fall series continues with the 1st of a two-part presentation: \n\n\n\n“Sacred Geometry: A Framework for Understanding Our Surroundings” – Bro. Mitchell Allison. \n\n\n\nMitchell Allison\, an architectural technologist from London ON\, is a researcher and highly regarded keynote speaker throughout our Grand Lodge jurisdiction and beyond.Our brother did an excellent talk for us on April 14th about architect Ieoh Ming Pei\, his famous project at the Louvre in Paris and the “great work” in respect to alchemy\, religion and masonic philosophy. \n\n\n\n \n\n\n\nIf you haven’t received a link and joining instructions for this meeting\, please send an email to the Secretary of the Valley of Calgary (valleyofcalgaryaasr@shaw.ca)
URL:https://valleyofcalgary.ca/calendar/sacred-geometry-a-framework-for-understanding-our-surroundings/
LOCATION:Alberta
END:VEVENT
BEGIN:VEVENT
DTSTART;TZID=America/Denver:20211015T203000
DTEND;TZID=America/Denver:20211015T223000
DTSTAMP:20260421T001518
CREATED:20211012T185611Z
LAST-MODIFIED:20211012T185617Z
UID:843-1634329800-1634337000@valleyofcalgary.ca
SUMMARY:Vancouver Valley - Presentation: The Victoria Masonic Temple
DESCRIPTION:Ill. Bro. Douglas G. Easton\, 33°\, Deputy for BC and Yukon\, will be giving a presentation on the Victoria Masonic Temple. \n\n\n\n \n\n\n\nIf you haven’t received a link to join this presentation\, please send an email to the Secretary of the Valley of Calgary (valleyofcalgaryaasr@shaw.ca)
URL:https://valleyofcalgary.ca/calendar/vancouver-valley-presentation-the-victoria-masonic-temple/
LOCATION:Zoom Meeting
END:VEVENT
BEGIN:VEVENT
DTSTART;TZID=America/Denver:20211018T190000
DTEND;TZID=America/Denver:20211018T210000
DTSTAMP:20260421T001518
CREATED:20211007T210653Z
LAST-MODIFIED:20211012T185706Z
UID:832-1634583600-1634590800@valleyofcalgary.ca
SUMMARY:Valley of Calgary - Education Night
DESCRIPTION:Presentations:• “Scratching Your Ballot” – a short and informative discussion presented by Ill. Bro. Sean Yost\, 32°• “Peeling the Onion – The Layers of Meaning in Masonic Ritual” – an interactive discussion presented by Ill. Bro. Chuck Rose\, 32° \n\n\n\n \n\n\n\nIf you haven’t received a link to join this meeting\, please send a note to the Secretary of the Valley of Calgary (valleyofcalgaryaasr@shaw.ca)
URL:https://valleyofcalgary.ca/calendar/valley-of-calgary-education-night/
LOCATION:Zoom Meeting
END:VEVENT
BEGIN:VEVENT
DTSTART;TZID=America/Denver:20211019T193000
DTEND;TZID=America/Denver:20211019T213000
DTSTAMP:20260421T001518
CREATED:20211007T223837Z
LAST-MODIFIED:20211007T223838Z
UID:840-1634671800-1634679000@valleyofcalgary.ca
SUMMARY:Central Alberta Valley Lodge of Perfection\, Red Deer\, Alberta - Virtual Gathering and Festive Board
DESCRIPTION:Report from all members of any known sickness or distress within the Valley– History Book – Ill. Bros. Clark Johnston–  Festive Board* Please have any jokes or stories ready for festive board immediately after the meeting \n\n\n\n \n\n\n\nIf you haven’t received and link and joining instructions for this meeting\, please send an email to the Secretary of the Valley of Calgary (valleyofcalgaryaasr@shaw.ca)
URL:https://valleyofcalgary.ca/calendar/central-alberta-valley-lodge-of-perfection-red-deer-alberta-virtual-gathering-and-festive-board/
LOCATION:Zoom Meeting
END:VEVENT
BEGIN:VEVENT
DTSTART;TZID=America/Denver:20211026T190000
DTEND;TZID=America/Denver:20211026T210000
DTSTAMP:20260421T001518
CREATED:20211019T021808Z
LAST-MODIFIED:20211019T021808Z
UID:850-1635274800-1635282000@valleyofcalgary.ca
SUMMARY:Lethbridge Valley - Zoom Meeting
DESCRIPTION:If you haven’t received a link or instructions to join this meeting please send a message to the Secretary of the Valley of Calgary (valleyofcalgaryaasr@shaw.ca)
URL:https://valleyofcalgary.ca/calendar/lethbridge-valley-zoom-meeting-2/
LOCATION:Alberta
END:VEVENT
END:VCALENDAR