BEGIN:VCALENDAR
VERSION:2.0
PRODID:-//Valley of Calgary - ECPv6.15.20//NONSGML v1.0//EN
CALSCALE:GREGORIAN
METHOD:PUBLISH
X-WR-CALNAME:Valley of Calgary
X-ORIGINAL-URL:https://valleyofcalgary.ca
X-WR-CALDESC:Events for Valley of Calgary
REFRESH-INTERVAL;VALUE=DURATION:PT1H
X-Robots-Tag:noindex
X-PUBLISHED-TTL:PT1H
BEGIN:VTIMEZONE
TZID:America/Denver
BEGIN:DAYLIGHT
TZOFFSETFROM:-0700
TZOFFSETTO:-0600
TZNAME:MDT
DTSTART:20200308T090000
END:DAYLIGHT
BEGIN:STANDARD
TZOFFSETFROM:-0600
TZOFFSETTO:-0700
TZNAME:MST
DTSTART:20201101T080000
END:STANDARD
BEGIN:DAYLIGHT
TZOFFSETFROM:-0700
TZOFFSETTO:-0600
TZNAME:MDT
DTSTART:20210314T090000
END:DAYLIGHT
BEGIN:STANDARD
TZOFFSETFROM:-0600
TZOFFSETTO:-0700
TZNAME:MST
DTSTART:20211107T080000
END:STANDARD
BEGIN:DAYLIGHT
TZOFFSETFROM:-0700
TZOFFSETTO:-0600
TZNAME:MDT
DTSTART:20220313T090000
END:DAYLIGHT
BEGIN:STANDARD
TZOFFSETFROM:-0600
TZOFFSETTO:-0700
TZNAME:MST
DTSTART:20221106T080000
END:STANDARD
END:VTIMEZONE
BEGIN:VEVENT
DTSTART;TZID=America/Denver:20211101T184500
DTEND;TZID=America/Denver:20211101T190000
DTSTAMP:20260420T182937
CREATED:20211007T211336Z
LAST-MODIFIED:20211007T223441Z
UID:836-1635792300-1635793200@valleyofcalgary.ca
SUMMARY:Valley of Calgary - Festive Board
DESCRIPTION:If you haven’t received a link to join this meeting\, please email the Secretary of the Valley of Calgary (valleyofcalgaryaasr@shaw.ca)
URL:https://valleyofcalgary.ca/calendar/valley-of-calgary-festive-board-4/
LOCATION:Zoom Meeting
CATEGORIES:Festive Board - Open to Members and Non-Members
END:VEVENT
BEGIN:VEVENT
DTSTART;TZID=America/Denver:20211101T190000
DTEND;TZID=America/Denver:20211101T213000
DTSTAMP:20260420T182937
CREATED:20211007T211105Z
LAST-MODIFIED:20211007T211106Z
UID:834-1635793200-1635802200@valleyofcalgary.ca
SUMMARY:Valley of Calgary - Regular Business Meeting
DESCRIPTION:If you haven’t received a link to join this meeting\, please email the Secretary of the Valley of Calgary (valleyofcalgaryaasr@shaw.ca)
URL:https://valleyofcalgary.ca/calendar/valley-of-calgary-regular-business-meeting-3/
LOCATION:Zoom Meeting
CATEGORIES:Regular Business Meeting - Members Only
END:VEVENT
BEGIN:VEVENT
DTSTART;TZID=America/Denver:20211115T190000
DTEND;TZID=America/Denver:20211115T210000
DTSTAMP:20260420T182937
CREATED:20211110T040943Z
LAST-MODIFIED:20211110T041048Z
UID:856-1637002800-1637010000@valleyofcalgary.ca
SUMMARY:Valley of Calgary - Education Night (Zoom Meeting)
DESCRIPTION:You are cordially invited to join our November 15\, 2021 education night presentation titled “A Masonic Tour of Israel” presented by Ill. Bro. Murray Pay 33°.  The presentation documents an informative trip that Ill. Bro. Pay and several other Masons made a short time ago. \n\n\n\nIf you haven’t received a link or instructions to join this meeting please send an email to the Secretary of the Valley of Calgary (valleyofcalgaryaasr@shaw.ca)
URL:https://valleyofcalgary.ca/calendar/valley-of-calgary-education-night-2/
LOCATION:Alberta
END:VEVENT
BEGIN:VEVENT
DTSTART;TZID=America/Denver:20211122T193000
DTEND;TZID=America/Denver:20211122T213000
DTSTAMP:20260420T182937
CREATED:20211110T041434Z
LAST-MODIFIED:20211110T041434Z
UID:860-1637609400-1637616600@valleyofcalgary.ca
SUMMARY:Valley of Calgary - Future of CFMH & CMTB
DESCRIPTION:This is a special meeting to discuss the facts related to the future of Calgary Freemasons Hall (CFMH) and the Calgary Masonic Temple Board (CMTB).  Chaired by our Most Wise Sovereign\, Ill. Bro. Sean Yost 32°. \n\n\n\nIf you haven’t received a link or instructions to join this meeting please send an email to the Secretary of the Valley of Calgary (valleyofcalgaryaasr@shaw.ca)
URL:https://valleyofcalgary.ca/calendar/valley-of-calgary-future-of-cfmh-cmtb/
LOCATION:Alberta
END:VEVENT
BEGIN:VEVENT
DTSTART;TZID=America/Denver:20211123T190000
DTEND;TZID=America/Denver:20211123T210000
DTSTAMP:20260420T182937
CREATED:20211110T040648Z
LAST-MODIFIED:20211110T040648Z
UID:854-1637694000-1637701200@valleyofcalgary.ca
SUMMARY:Lethbridge Valley - Zoom Meeting
DESCRIPTION:We encourage all members of the Valley of Calgary to join the Lethbridge Valley meeting for some great fellowship and education. \n\n\n\nIf you haven’t received a link or instructions to join this meeting please send an email to the Secretary of the Valley of Calgary (valleyofcalgaryaasr@shaw.ca)
URL:https://valleyofcalgary.ca/calendar/lethbridge-valley-zoom-meeting-3/
LOCATION:Alberta
END:VEVENT
END:VCALENDAR