BEGIN:VCALENDAR
VERSION:2.0
PRODID:-//Valley of Calgary - ECPv6.15.20//NONSGML v1.0//EN
CALSCALE:GREGORIAN
METHOD:PUBLISH
X-WR-CALNAME:Valley of Calgary
X-ORIGINAL-URL:https://valleyofcalgary.ca
X-WR-CALDESC:Events for Valley of Calgary
REFRESH-INTERVAL;VALUE=DURATION:PT1H
X-Robots-Tag:noindex
X-PUBLISHED-TTL:PT1H
BEGIN:VTIMEZONE
TZID:America/Denver
BEGIN:DAYLIGHT
TZOFFSETFROM:-0700
TZOFFSETTO:-0600
TZNAME:MDT
DTSTART:20210314T090000
END:DAYLIGHT
BEGIN:STANDARD
TZOFFSETFROM:-0600
TZOFFSETTO:-0700
TZNAME:MST
DTSTART:20211107T080000
END:STANDARD
BEGIN:DAYLIGHT
TZOFFSETFROM:-0700
TZOFFSETTO:-0600
TZNAME:MDT
DTSTART:20220313T090000
END:DAYLIGHT
BEGIN:STANDARD
TZOFFSETFROM:-0600
TZOFFSETTO:-0700
TZNAME:MST
DTSTART:20221106T080000
END:STANDARD
BEGIN:DAYLIGHT
TZOFFSETFROM:-0700
TZOFFSETTO:-0600
TZNAME:MDT
DTSTART:20230312T090000
END:DAYLIGHT
BEGIN:STANDARD
TZOFFSETFROM:-0600
TZOFFSETTO:-0700
TZNAME:MST
DTSTART:20231105T080000
END:STANDARD
END:VTIMEZONE
BEGIN:VEVENT
DTSTART;TZID=America/Denver:20220112T170000
DTEND;TZID=America/Denver:20220112T190000
DTSTAMP:20260420T152951
CREATED:20220105T181400Z
LAST-MODIFIED:20220105T181401Z
UID:872-1642006800-1642014000@valleyofcalgary.ca
SUMMARY:Barrie Valley - “Freemasonry And The Underground Railroad”
DESCRIPTION:Ill Bro. Moises Gomez\, 33°\, of Westield\, NJ is employed by the NY Port Authority and isthe Historian of the Grand Lodge of New Jersey. He has travelled across the USA andother countries presenting his 911 and Underground Railroad talks and has receivednumerous masonic honours. We are thrilled to welcome back Moises Gomez to enjoyhis presentation. \n\n\n\nIf you haven’t received information to join this online presentation please email the Grand Secretary of the Valley of Calgary.
URL:https://valleyofcalgary.ca/calendar/barrie-valley-freemasonry-and-the-underground-railroad/
LOCATION:Alberta
END:VEVENT
BEGIN:VEVENT
DTSTART;TZID=America/Denver:20220117T193000
DTEND;TZID=America/Denver:20220117T223000
DTSTAMP:20260420T152951
CREATED:20220105T181711Z
LAST-MODIFIED:20220105T181711Z
UID:874-1642447800-1642458600@valleyofcalgary.ca
SUMMARY:Valley of Calgary - Regular Business Meeting and Installations
DESCRIPTION:
URL:https://valleyofcalgary.ca/calendar/valley-of-calgary-regular-business-meeting-and-installations/
LOCATION:Alberta
END:VEVENT
BEGIN:VEVENT
DTSTART;TZID=America/Denver:20220118T193000
DTEND;TZID=America/Denver:20220118T213000
DTSTAMP:20260420T152951
CREATED:20220117T204847Z
LAST-MODIFIED:20220117T204848Z
UID:897-1642534200-1642541400@valleyofcalgary.ca
SUMMARY:Central Alberta Valley - Lodge of Perfection
DESCRIPTION:You are invited to attend Central Alberta Valley’s Virtual Gathering and Festive Boardusing ZOOM. Join before 7:30 p.m. MST for some social time\, and be ready to go whenthe meeting starts at 7:30 p.m. Please have any jokes or stories ready for festive boardimmediately after the meeting. \n\n\n\n \n\n\n\nIf you haven’t received instructions to join this meeting\, please contact the Grand Secretary\, Valley of Calgary at valleyofcalgaryaasr@shaw.ca
URL:https://valleyofcalgary.ca/calendar/central-alberta-valley-lodge-of-perfection/
LOCATION:Alberta
END:VEVENT
BEGIN:VEVENT
DTSTART;TZID=America/Denver:20220119T173000
DTEND;TZID=America/Denver:20220119T193000
DTSTAMP:20260420T152951
CREATED:20220117T205333Z
LAST-MODIFIED:20220117T205334Z
UID:899-1642613400-1642620600@valleyofcalgary.ca
SUMMARY:Hamilton Valley - Education Committee
DESCRIPTION:Freemasonry and Mental Health: The work of Bro. Adam Mills (UGLE)\, presented by Bro.Mitchell Allison. \n\n\n\n \n\n\n\nDress Code: Business or Smart Casual. Scheduled speakers may choose to wear a jacketand tie. It is appreciated if you sign in between 7:10 – 7:25 pm (Eastern time) since we start promptly at7:30 pm (Eastern time). If you are joining us later – PLEASE – remember to mute your device. Thank youfor your co-operation. \n\n\n\n \n\n\n\nIf you haven’t received instructions to join this meeting\, please contact the Grand Secretary\, Valley of Calgary at valleyofcalgaryaasr@shaw.ca
URL:https://valleyofcalgary.ca/calendar/hamilton-valley-education-committee/
LOCATION:Alberta
END:VEVENT
BEGIN:VEVENT
DTSTART;TZID=America/Denver:20220127T170000
DTEND;TZID=America/Denver:20220127T190000
DTSTAMP:20260420T152951
CREATED:20220125T211843Z
LAST-MODIFIED:20220125T211843Z
UID:905-1643302800-1643310000@valleyofcalgary.ca
SUMMARY:Montreal Valley - Vallée de Montreal: A summary of the 14th degree (French)
DESCRIPTION:Author: Ill. Bro. Kaled Al Madini\, 33° and presented by Ill. Bro. Jacques Ruelland\, 33° \n\n\n\nThis Lecture summarizes the ceremony\, moral\, philosophical\, and spiritual teachings\,and other aspects of the 14th degree.  \n\n\n\nNote that this presentation will be held in FrenchProtocol: \n\n\n\nLectures are for Brethren of 14th degree and higher only. Please ensure thisis clearly indicated in each Valley’s communications.”Advance registration is required. Dress Code: respectful.\n\n\n\nIf you haven’t received instructions to join this meeting\, please send a note to the Grand Secretary\, Valley of Calgary to valleyofcalgaryaasr@shaw.ca
URL:https://valleyofcalgary.ca/calendar/montreal-valley-vallee-de-montreal-a-summary-of-the-14th-degree-french/
LOCATION:Alberta
END:VEVENT
BEGIN:VEVENT
DTSTART;TZID=America/Denver:20220127T173000
DTEND;TZID=America/Denver:20220127T193000
DTSTAMP:20260420T152951
CREATED:20220125T211413Z
LAST-MODIFIED:20220125T211414Z
UID:903-1643304600-1643311800@valleyofcalgary.ca
SUMMARY:Toronto Valley - Presentation: Night at the Rite
DESCRIPTION:A Master Mason’s presentation of a portion of the 15th Degree from the Northern Masonic Jurisdiction will be shown. Open to all Master Masons.Dress Code: Business or Smart Casual. \n\n\n\nIf you haven’t received instructions to join this meeting\, please send a note the Grand Secretary\, Valley of Calgary at valleyofcalgaryaasr@shaw.ca
URL:https://valleyofcalgary.ca/calendar/toronto-valley-presentation-night-at-the-rite/
LOCATION:Alberta
END:VEVENT
END:VCALENDAR