BEGIN:VCALENDAR
VERSION:2.0
PRODID:-//Valley of Calgary - ECPv6.15.20//NONSGML v1.0//EN
CALSCALE:GREGORIAN
METHOD:PUBLISH
X-ORIGINAL-URL:https://valleyofcalgary.ca
X-WR-CALDESC:Events for Valley of Calgary
REFRESH-INTERVAL;VALUE=DURATION:PT1H
X-Robots-Tag:noindex
X-PUBLISHED-TTL:PT1H
BEGIN:VTIMEZONE
TZID:America/Denver
BEGIN:DAYLIGHT
TZOFFSETFROM:-0700
TZOFFSETTO:-0600
TZNAME:MDT
DTSTART:20210314T090000
END:DAYLIGHT
BEGIN:STANDARD
TZOFFSETFROM:-0600
TZOFFSETTO:-0700
TZNAME:MST
DTSTART:20211107T080000
END:STANDARD
BEGIN:DAYLIGHT
TZOFFSETFROM:-0700
TZOFFSETTO:-0600
TZNAME:MDT
DTSTART:20220313T090000
END:DAYLIGHT
BEGIN:STANDARD
TZOFFSETFROM:-0600
TZOFFSETTO:-0700
TZNAME:MST
DTSTART:20221106T080000
END:STANDARD
BEGIN:DAYLIGHT
TZOFFSETFROM:-0700
TZOFFSETTO:-0600
TZNAME:MDT
DTSTART:20230312T090000
END:DAYLIGHT
BEGIN:STANDARD
TZOFFSETFROM:-0600
TZOFFSETTO:-0700
TZNAME:MST
DTSTART:20231105T080000
END:STANDARD
END:VTIMEZONE
BEGIN:VEVENT
DTSTART;TZID=America/Denver:20220606T193000
DTEND;TZID=America/Denver:20220606T220000
DTSTAMP:20260420T080648
CREATED:20220130T225124Z
LAST-MODIFIED:20220130T225125Z
UID:929-1654543800-1654552800@valleyofcalgary.ca
SUMMARY:Valley of Calgary - Regular Business Meeting (last meeting of 2021-2022 cycle)
DESCRIPTION:
URL:https://valleyofcalgary.ca/calendar/valley-of-calgary-regular-business-meeting-last-meeting-of-2021-2022-cycle/
LOCATION:Alberta
END:VEVENT
BEGIN:VEVENT
DTSTART;TZID=America/Denver:20220621T170000
DTEND;TZID=America/Denver:20220621T200000
DTSTAMP:20260420T080648
CREATED:20220130T225220Z
LAST-MODIFIED:20220130T225221Z
UID:931-1655830800-1655841600@valleyofcalgary.ca
SUMMARY:Central Valley - Annual BBQ & SGC's Visit
DESCRIPTION:More details to come
URL:https://valleyofcalgary.ca/calendar/central-valley-annual-bbq-sgcs-visit/
LOCATION:Alberta
END:VEVENT
END:VCALENDAR